BEGIN:VCALENDAR
VERSION:2.0
PRODID:-//Johns Hopkins University Museums - ECPv6.15.20//NONSGML v1.0//EN
CALSCALE:GREGORIAN
METHOD:PUBLISH
X-WR-CALNAME:Johns Hopkins University Museums
X-ORIGINAL-URL:https://museums.jhu.edu
X-WR-CALDESC:Events for Johns Hopkins University Museums
REFRESH-INTERVAL;VALUE=DURATION:PT1H
X-Robots-Tag:noindex
X-PUBLISHED-TTL:PT1H
BEGIN:VTIMEZONE
TZID:America/New_York
BEGIN:DAYLIGHT
TZOFFSETFROM:-0500
TZOFFSETTO:-0400
TZNAME:EDT
DTSTART:20220313T070000
END:DAYLIGHT
BEGIN:STANDARD
TZOFFSETFROM:-0400
TZOFFSETTO:-0500
TZNAME:EST
DTSTART:20221106T060000
END:STANDARD
BEGIN:DAYLIGHT
TZOFFSETFROM:-0500
TZOFFSETTO:-0400
TZNAME:EDT
DTSTART:20230312T070000
END:DAYLIGHT
BEGIN:STANDARD
TZOFFSETFROM:-0400
TZOFFSETTO:-0500
TZNAME:EST
DTSTART:20231105T060000
END:STANDARD
BEGIN:DAYLIGHT
TZOFFSETFROM:-0500
TZOFFSETTO:-0400
TZNAME:EDT
DTSTART:20240310T070000
END:DAYLIGHT
BEGIN:STANDARD
TZOFFSETFROM:-0400
TZOFFSETTO:-0500
TZNAME:EST
DTSTART:20241103T060000
END:STANDARD
END:VTIMEZONE
BEGIN:VEVENT
DTSTART;TZID=America/New_York:20230119T110000
DTEND;TZID=America/New_York:20230119T160000
DTSTAMP:20260425T121358
CREATED:20230111T204500Z
LAST-MODIFIED:20230114T195631Z
UID:3778-1674126000-1674144000@museums.jhu.edu
SUMMARY:Evergreen Museum & Library Closed
DESCRIPTION:Evergreen Museum & Library will be closed to the public from Thursday\, January 19\, through Thursday\, January 26 for a restoration project. Tours and normal visiting hours will resume on Friday\, January 27. To plan your visit\, CLICK HERE.
URL:https://museums.jhu.edu/event/evergreen-museum-library-closed/
LOCATION:Evergreen Museum & Library\, 4545 N. Charles Street\, Baltimore\, MD\, 21210\, United States
ATTACH;FMTTYPE=image/jpeg:https://museums.jhu.edu/wp-content/uploads/sites/46/2020/07/dsc2602_15400456049_o-scaled.jpg
ORGANIZER;CN="Evergreen Museum &amp%3B Library":MAILTO:museums@jhu.edu
END:VEVENT
END:VCALENDAR