BEGIN:VCALENDAR
VERSION:2.0
PRODID:-//Johns Hopkins University Museums - ECPv6.15.20//NONSGML v1.0//EN
CALSCALE:GREGORIAN
METHOD:PUBLISH
X-ORIGINAL-URL:https://museums.jhu.edu
X-WR-CALDESC:Events for Johns Hopkins University Museums
REFRESH-INTERVAL;VALUE=DURATION:PT1H
X-Robots-Tag:noindex
X-PUBLISHED-TTL:PT1H
BEGIN:VTIMEZONE
TZID:America/New_York
BEGIN:DAYLIGHT
TZOFFSETFROM:-0500
TZOFFSETTO:-0400
TZNAME:EDT
DTSTART:20220313T070000
END:DAYLIGHT
BEGIN:STANDARD
TZOFFSETFROM:-0400
TZOFFSETTO:-0500
TZNAME:EST
DTSTART:20221106T060000
END:STANDARD
BEGIN:DAYLIGHT
TZOFFSETFROM:-0500
TZOFFSETTO:-0400
TZNAME:EDT
DTSTART:20230312T070000
END:DAYLIGHT
BEGIN:STANDARD
TZOFFSETFROM:-0400
TZOFFSETTO:-0500
TZNAME:EST
DTSTART:20231105T060000
END:STANDARD
BEGIN:DAYLIGHT
TZOFFSETFROM:-0500
TZOFFSETTO:-0400
TZNAME:EDT
DTSTART:20240310T070000
END:DAYLIGHT
BEGIN:STANDARD
TZOFFSETFROM:-0400
TZOFFSETTO:-0500
TZNAME:EST
DTSTART:20241103T060000
END:STANDARD
END:VTIMEZONE
BEGIN:VEVENT
DTSTART;TZID=America/New_York:20230424T183000
DTEND;TZID=America/New_York:20230424T193000
DTSTAMP:20260424T032724
CREATED:20230330T181436Z
LAST-MODIFIED:20230411T140308Z
UID:3899-1682361000-1682364600@museums.jhu.edu
SUMMARY:Chesapeake Shakespeare Company in the Stacks
DESCRIPTION:ABOUT THE PROGRAM\nTo celebrate Shakespeare’s Birthday and the 400th anniversary of the first printed collection of his works\, Chesapeake Shakespeare Company (CSC) is proud to present a special event\, CSC In The Stacks\, in conjunction with the Johns Hopkins Sheridan Libraries & University Museums. Staged in Evergreen Museum & Library’s historic Bakst Theatre\, audiences will hear a selection of scenes and soliloquies that showcase the brilliance and power of the Bard’s most iconic plays. Whether you’re a lifelong fan of Shakespeare or a newcomer to his work\, don’t miss this rare opportunity to see actors engage with the centuries-old text. \n  \nREGISTRATION\nAdmission for this program is free for members of the Sheridan Libraries and/or the Johns Hopkins University Museums. To become a member of the Sheridan Libraries\, click here. To become a member of the Johns Hopkins University Museums\, click here.  \n\nGeneral Admission $25\nJHU Faculty\, Staff & Students $20\nJHU Museums members FREE\nSheridan Libraries members/friends FREE\n\nTo purchase tickets\, please visit https://evergreenmuseum.eventbrite.com \n 
URL:https://museums.jhu.edu/event/chesapeake-shakespeare-company-in-the-stacks/
LOCATION:Evergreen Museum & Library\, 4545 N. Charles Street\, Baltimore\, MD\, 21210\, United States
ATTACH;FMTTYPE=image/jpeg:https://museums.jhu.edu/wp-content/uploads/sites/46/2023/03/CSCSTACKS-Image-JHU-Mar-27-Update.jpg
ORGANIZER;CN="Evergreen Museum &amp%3B Library":MAILTO:museums@jhu.edu
END:VEVENT
END:VCALENDAR