BEGIN:VCALENDAR
VERSION:2.0
PRODID:-//Johns Hopkins University Museums - ECPv6.15.20//NONSGML v1.0//EN
CALSCALE:GREGORIAN
METHOD:PUBLISH
X-ORIGINAL-URL:https://museums.jhu.edu
X-WR-CALDESC:Events for Johns Hopkins University Museums
REFRESH-INTERVAL;VALUE=DURATION:PT1H
X-Robots-Tag:noindex
X-PUBLISHED-TTL:PT1H
BEGIN:VTIMEZONE
TZID:America/New_York
BEGIN:DAYLIGHT
TZOFFSETFROM:-0500
TZOFFSETTO:-0400
TZNAME:EDT
DTSTART:20220313T070000
END:DAYLIGHT
BEGIN:STANDARD
TZOFFSETFROM:-0400
TZOFFSETTO:-0500
TZNAME:EST
DTSTART:20221106T060000
END:STANDARD
BEGIN:DAYLIGHT
TZOFFSETFROM:-0500
TZOFFSETTO:-0400
TZNAME:EDT
DTSTART:20230312T070000
END:DAYLIGHT
BEGIN:STANDARD
TZOFFSETFROM:-0400
TZOFFSETTO:-0500
TZNAME:EST
DTSTART:20231105T060000
END:STANDARD
BEGIN:DAYLIGHT
TZOFFSETFROM:-0500
TZOFFSETTO:-0400
TZNAME:EDT
DTSTART:20240310T070000
END:DAYLIGHT
BEGIN:STANDARD
TZOFFSETFROM:-0400
TZOFFSETTO:-0500
TZNAME:EST
DTSTART:20241103T060000
END:STANDARD
END:VTIMEZONE
BEGIN:VEVENT
DTSTART;TZID=America/New_York:20231210T110000
DTEND;TZID=America/New_York:20231210T140000
DTSTAMP:20260420T035226
CREATED:20230920T181459Z
LAST-MODIFIED:20231201T222930Z
UID:4487-1702206000-1702216800@museums.jhu.edu
SUMMARY:Homewood for the Holidays
DESCRIPTION:ABOUT THE PROGRAM\nCelebrate the season with Homewood! Tour the house’s decked halls and period rooms\, hear live harp music\, enjoy holiday goodies\, and browse a special holiday market featuring local businesses. Vendors will include: Ashmo Jewelry and Accessories\, Presence & Grace\, Tigerlillyshop\, Peanutbutter & Jesse\, Naughty Naturals\, and Yeht Co. Advance registration required: http://homewoodmuseum.eventbrite.com. \nVISITOR INFORMATION\n\nDue to the historical nature of the building\, accessibility is limited\, and many parts of the museum can only be reached via stairs.\nLimited free parking is available. For more information on parking options at Homewood\, click here. \n\nSPONSORSHIP\nThis event is supported in part by the Maryland State Arts Council (msac.org) \n \n 
URL:https://museums.jhu.edu/event/homewood-for-the-holidays/
LOCATION:Homewood Museum\, 3400 N. Charles Street\, Baltimore\, MD\, 21218\, United States
ATTACH;FMTTYPE=image/jpeg:https://museums.jhu.edu/wp-content/uploads/sites/46/2023/09/JHU3692_resize.jpg
ORGANIZER;CN="Homewood Museum":MAILTO:museums@jhu.edu
END:VEVENT
END:VCALENDAR