BEGIN:VCALENDAR
VERSION:2.0
PRODID:-//Johns Hopkins University Museums - ECPv6.15.20//NONSGML v1.0//EN
CALSCALE:GREGORIAN
METHOD:PUBLISH
X-ORIGINAL-URL:https://museums.jhu.edu
X-WR-CALDESC:Events for Johns Hopkins University Museums
REFRESH-INTERVAL;VALUE=DURATION:PT1H
X-Robots-Tag:noindex
X-PUBLISHED-TTL:PT1H
BEGIN:VTIMEZONE
TZID:America/New_York
BEGIN:DAYLIGHT
TZOFFSETFROM:-0500
TZOFFSETTO:-0400
TZNAME:EDT
DTSTART:20200308T070000
END:DAYLIGHT
BEGIN:STANDARD
TZOFFSETFROM:-0400
TZOFFSETTO:-0500
TZNAME:EST
DTSTART:20201101T060000
END:STANDARD
BEGIN:DAYLIGHT
TZOFFSETFROM:-0500
TZOFFSETTO:-0400
TZNAME:EDT
DTSTART:20210314T070000
END:DAYLIGHT
BEGIN:STANDARD
TZOFFSETFROM:-0400
TZOFFSETTO:-0500
TZNAME:EST
DTSTART:20211107T060000
END:STANDARD
BEGIN:DAYLIGHT
TZOFFSETFROM:-0500
TZOFFSETTO:-0400
TZNAME:EDT
DTSTART:20220313T070000
END:DAYLIGHT
BEGIN:STANDARD
TZOFFSETFROM:-0400
TZOFFSETTO:-0500
TZNAME:EST
DTSTART:20221106T060000
END:STANDARD
END:VTIMEZONE
BEGIN:VEVENT
DTSTART;TZID=America/New_York:20211211T110000
DTEND;TZID=America/New_York:20211211T140000
DTSTAMP:20260423T024402
CREATED:20211123T202115Z
LAST-MODIFIED:20211123T202115Z
UID:1970-1639220400-1639231200@museums.jhu.edu
SUMMARY:Evergreen Holiday Open House
DESCRIPTION:See Evergreen’s halls decked for the holidays at this free open house. Explore the first floor rooms\, try your hand at a seasonal craft\, shop the museum’s Gift Shop\, and enjoy festive treats! Social distancing will be enforced and masks are required inside the museum. \nAdvance registration required. Choose from three sessions: \n11 a.m.-noon \n12-1 p.m. \n1-2 p.m. \nPlease register HERE \n 
URL:https://museums.jhu.edu/event/evergreen-holiday-open-house/
LOCATION:Evergreen Museum & Library\, 4545 N. Charles Street\, Baltimore\, MD\, 21210\, United States
ATTACH;FMTTYPE=image/jpeg:https://museums.jhu.edu/wp-content/uploads/sites/46/2021/11/DSC1226_resize.jpg
ORGANIZER;CN="Evergreen Museum &amp%3B Library":MAILTO:museums@jhu.edu
END:VEVENT
BEGIN:VEVENT
DTSTART;VALUE=DATE:20211224
DTEND;VALUE=DATE:20211225
DTSTAMP:20260423T024402
CREATED:20211129T190559Z
LAST-MODIFIED:20211129T190559Z
UID:1976-1640304000-1640390399@museums.jhu.edu
SUMMARY:JHU Museums Closed
DESCRIPTION:The JHU Museums (Homewood and Evergreen Museum & Library) will be closed Friday\, December 24\, and Saturday\, December 25. The museums will reopen Sunday\, December 26\, 11 a.m.-4 p.m.
URL:https://museums.jhu.edu/event/jhu-museums-closed/
LOCATION:The Johns Hopkins University Museums
ATTACH;FMTTYPE=image/jpeg:https://museums.jhu.edu/wp-content/uploads/sites/46/2020/09/split-museums-banner.jpg
ORGANIZER;CN="The Johns Hopkins University Museums":MAILTO:museums@jhu.edu
END:VEVENT
BEGIN:VEVENT
DTSTART;VALUE=DATE:20211225
DTEND;VALUE=DATE:20211226
DTSTAMP:20260423T024402
CREATED:20211129T190753Z
LAST-MODIFIED:20211129T190753Z
UID:1979-1640390400-1640476799@museums.jhu.edu
SUMMARY:JHU Museums Closed
DESCRIPTION:The JHU Museums (Homewood and Evergreen Museum & Library) will be closed Friday\, December 24\, and Saturday\, December 25. The museums will reopen Sunday\, December 26\, 11 a.m.-4 p.m.
URL:https://museums.jhu.edu/event/jhu-museums-closed-2/
LOCATION:The Johns Hopkins University Museums
ATTACH;FMTTYPE=image/jpeg:https://museums.jhu.edu/wp-content/uploads/sites/46/2020/09/split-museums-banner.jpg
ORGANIZER;CN="The Johns Hopkins University Museums":MAILTO:museums@jhu.edu
END:VEVENT
BEGIN:VEVENT
DTSTART;VALUE=DATE:20211231
DTEND;VALUE=DATE:20220101
DTSTAMP:20260423T024402
CREATED:20211129T191025Z
LAST-MODIFIED:20211129T191135Z
UID:1981-1640908800-1640995199@museums.jhu.edu
SUMMARY:JHU Museums Closed
DESCRIPTION:The JHU Museums (Homewood and Evergreen Museum & Library) will be closed Friday\, December 31\, and Saturday\, January 1. The museums will reopen Sunday\, January 2\, 11 a.m.-4 p.m.
URL:https://museums.jhu.edu/event/1981/
LOCATION:The Johns Hopkins University Museums
ATTACH;FMTTYPE=image/jpeg:https://museums.jhu.edu/wp-content/uploads/sites/46/2020/09/split-museums-banner.jpg
ORGANIZER;CN="The Johns Hopkins University Museums":MAILTO:museums@jhu.edu
END:VEVENT
END:VCALENDAR