BEGIN:VCALENDAR
VERSION:2.0
PRODID:-//Johns Hopkins University Museums - ECPv6.15.20//NONSGML v1.0//EN
CALSCALE:GREGORIAN
METHOD:PUBLISH
X-ORIGINAL-URL:https://museums.jhu.edu
X-WR-CALDESC:Events for Johns Hopkins University Museums
REFRESH-INTERVAL;VALUE=DURATION:PT1H
X-Robots-Tag:noindex
X-PUBLISHED-TTL:PT1H
BEGIN:VTIMEZONE
TZID:America/New_York
BEGIN:DAYLIGHT
TZOFFSETFROM:-0500
TZOFFSETTO:-0400
TZNAME:EDT
DTSTART:20210314T070000
END:DAYLIGHT
BEGIN:STANDARD
TZOFFSETFROM:-0400
TZOFFSETTO:-0500
TZNAME:EST
DTSTART:20211107T060000
END:STANDARD
BEGIN:DAYLIGHT
TZOFFSETFROM:-0500
TZOFFSETTO:-0400
TZNAME:EDT
DTSTART:20220313T070000
END:DAYLIGHT
BEGIN:STANDARD
TZOFFSETFROM:-0400
TZOFFSETTO:-0500
TZNAME:EST
DTSTART:20221106T060000
END:STANDARD
BEGIN:DAYLIGHT
TZOFFSETFROM:-0500
TZOFFSETTO:-0400
TZNAME:EDT
DTSTART:20230312T070000
END:DAYLIGHT
BEGIN:STANDARD
TZOFFSETFROM:-0400
TZOFFSETTO:-0500
TZNAME:EST
DTSTART:20231105T060000
END:STANDARD
END:VTIMEZONE
BEGIN:VEVENT
DTSTART;VALUE=DATE:20220101
DTEND;VALUE=DATE:20220102
DTSTAMP:20260423T011708
CREATED:20211129T191326Z
LAST-MODIFIED:20211129T191326Z
UID:1984-1640995200-1641081599@museums.jhu.edu
SUMMARY:JHU Museums Closed
DESCRIPTION:The JHU Museums (Homewood and Evergreen Museum & Library) will be closed Friday\, December 31\, and Saturday\, January 1. The museums will reopen Sunday\, January 2\, 11 a.m.-4 p.m.
URL:https://museums.jhu.edu/event/jhu-museums-closed-3/
LOCATION:MD
ATTACH;FMTTYPE=image/jpeg:https://museums.jhu.edu/wp-content/uploads/sites/46/2020/09/split-museums-banner.jpg
END:VEVENT
BEGIN:VEVENT
DTSTART;TZID=America/New_York:20220121T130000
DTEND;TZID=America/New_York:20220121T143000
DTSTAMP:20260423T011709
CREATED:20220114T190259Z
LAST-MODIFIED:20220114T190259Z
UID:2155-1642770000-1642775400@museums.jhu.edu
SUMMARY:Ritual of Remembrance
DESCRIPTION:Join us for the first Ritual of Remembrance\, a musical celebration honoring Homewood’s Black ancestors\, outside of Homewood Museum. This free community gathering will highlight new research findings about the enslaved people who lived on the site of the Homewood campus and honor the legacy of Black labor in building the institutions of today
URL:https://museums.jhu.edu/event/ritual-of-remembrance/
LOCATION:Homewood Museum\, 3400 N. Charles Street\, Baltimore\, MD\, 21218\, United States
ATTACH;FMTTYPE=image/png:https://museums.jhu.edu/wp-content/uploads/sites/46/2022/01/Ritual-of-Remembrance-Social-Media-FINAL.png
ORGANIZER;CN="Homewood Museum":MAILTO:museums@jhu.edu
END:VEVENT
END:VCALENDAR