BEGIN:VCALENDAR
VERSION:2.0
PRODID:-//Johns Hopkins University Museums - ECPv6.15.20//NONSGML v1.0//EN
CALSCALE:GREGORIAN
METHOD:PUBLISH
X-ORIGINAL-URL:https://museums.jhu.edu
X-WR-CALDESC:Events for Johns Hopkins University Museums
REFRESH-INTERVAL;VALUE=DURATION:PT1H
X-Robots-Tag:noindex
X-PUBLISHED-TTL:PT1H
BEGIN:VTIMEZONE
TZID:America/New_York
BEGIN:DAYLIGHT
TZOFFSETFROM:-0500
TZOFFSETTO:-0400
TZNAME:EDT
DTSTART:20220313T070000
END:DAYLIGHT
BEGIN:STANDARD
TZOFFSETFROM:-0400
TZOFFSETTO:-0500
TZNAME:EST
DTSTART:20221106T060000
END:STANDARD
BEGIN:DAYLIGHT
TZOFFSETFROM:-0500
TZOFFSETTO:-0400
TZNAME:EDT
DTSTART:20230312T070000
END:DAYLIGHT
BEGIN:STANDARD
TZOFFSETFROM:-0400
TZOFFSETTO:-0500
TZNAME:EST
DTSTART:20231105T060000
END:STANDARD
BEGIN:DAYLIGHT
TZOFFSETFROM:-0500
TZOFFSETTO:-0400
TZNAME:EDT
DTSTART:20240310T070000
END:DAYLIGHT
BEGIN:STANDARD
TZOFFSETFROM:-0400
TZOFFSETTO:-0500
TZNAME:EST
DTSTART:20241103T060000
END:STANDARD
END:VTIMEZONE
BEGIN:VEVENT
DTSTART;TZID=America/New_York:20230209T180000
DTEND;TZID=America/New_York:20230209T200000
DTSTAMP:20260424T174256
CREATED:20230125T181228Z
LAST-MODIFIED:20230202T182848Z
UID:3805-1675965600-1675972800@museums.jhu.edu
SUMMARY:My Jazzy Valentine: Love Songs from the Great American Songbook
DESCRIPTION:ABOUT THE PROGRAM\nCelebrate an early Valentine’s Day with an evening of romantic jazz\, performed by students in Peabody Conservatory’s prestigious Jazz Program. Selections will come from the Great American Songbook\, including standards by Cole Porter\, Rodgers & Hart\, and many others! Light refreshments served.\n \nREGISTRATION\n\n$10 Full-time students* (w/ valid ID)\n$15 JHU Museums Members\n$15 JHU Faculty\, Staff\, Alumni* (w/ valid ID)\n$20 General Admission\n\nTo register\, CLICK HERE.
URL:https://museums.jhu.edu/event/my-jazzy-valentine-love-songs-from-the-great-american-songbook/
LOCATION:Evergreen Museum & Library\, 4545 N. Charles Street\, Baltimore\, MD\, 21210\, United States
ATTACH;FMTTYPE=image/jpeg:https://museums.jhu.edu/wp-content/uploads/sites/46/2023/01/Levy-197-001-001.jpg
ORGANIZER;CN="Evergreen Museum &amp%3B Library":MAILTO:museums@jhu.edu
END:VEVENT
BEGIN:VEVENT
DTSTART;TZID=America/New_York:20230211T110000
DTEND;TZID=America/New_York:20230211T120000
DTSTAMP:20260424T174256
CREATED:20230125T190938Z
LAST-MODIFIED:20230125T191041Z
UID:3809-1676113200-1676116800@museums.jhu.edu
SUMMARY:Black History Month: The Power of Children
DESCRIPTION:ABOUT THE PROGRAM\nExplore the influence of Black art in America and celebrate African American heritage through dance\, music\, and visual art at this family program co-hosted by Homewood Museum and Inheritance Baltimore. Participants will be able to imitate the style of famous African American artists\, including Tom Miller\, David Driskell\, and Romare Bearden. There will be a live drum call\, a brief remembrance ceremony\, and a dance performance by Baltimore School for the Arts student Edward Lee III. \nREGISTRATION\n\nOpen to children 5 years old and above.\nChildren must be accompanied by an adult.\nBoth children\, and any adults accompanying them\, need to purchase individual tickets. \nDue to limited space\, there is a maximum of one parent/guardian per child. \nA second session of this program will be held from 2-3 p.m.\n\nTo reserve a spot at either session\, CLICK HERE.
URL:https://museums.jhu.edu/event/black-history-month-the-power-of-children/
LOCATION:Homewood Museum\, 3400 N. Charles Street\, Baltimore\, MD\, 21218\, United States
ATTACH;FMTTYPE=image/jpeg:https://museums.jhu.edu/wp-content/uploads/sites/46/2023/01/WKB9649-scaled.jpg
ORGANIZER;CN="Homewood Museum":MAILTO:museums@jhu.edu
END:VEVENT
BEGIN:VEVENT
DTSTART;TZID=America/New_York:20230211T110000
DTEND;TZID=America/New_York:20230211T120000
DTSTAMP:20260424T174256
CREATED:20230125T190938Z
LAST-MODIFIED:20230125T191041Z
UID:3809-1676113200-1676116800@museums.jhu.edu
SUMMARY:Black History Month: The Power of Children
DESCRIPTION:ABOUT THE PROGRAM\nExplore the influence of Black art in America and celebrate African American heritage through dance\, music\, and visual art at this family program co-hosted by Homewood Museum and Inheritance Baltimore. Participants will be able to imitate the style of famous African American artists\, including Tom Miller\, David Driskell\, and Romare Bearden. There will be a live drum call\, a brief remembrance ceremony\, and a dance performance by Baltimore School for the Arts student Edward Lee III. \nREGISTRATION\n\nOpen to children 5 years old and above.\nChildren must be accompanied by an adult.\nBoth children\, and any adults accompanying them\, need to purchase individual tickets. \nDue to limited space\, there is a maximum of one parent/guardian per child. \nA second session of this program will be held from 2-3 p.m.\n\nTo reserve a spot at either session\, CLICK HERE.
URL:https://museums.jhu.edu/event/black-history-month-the-power-of-children/
LOCATION:Homewood Museum\, 3400 N. Charles Street\, Baltimore\, MD\, 21218\, United States
ATTACH;FMTTYPE=image/jpeg:https://museums.jhu.edu/wp-content/uploads/sites/46/2023/01/WKB9649-scaled.jpg
ORGANIZER;CN="Homewood Museum":MAILTO:museums@jhu.edu
END:VEVENT
BEGIN:VEVENT
DTSTART;TZID=America/New_York:20230219T140000
DTEND;TZID=America/New_York:20230219T160000
DTSTAMP:20260424T174256
CREATED:20221025T161735Z
LAST-MODIFIED:20221025T161848Z
UID:3691-1676815200-1676822400@museums.jhu.edu
SUMMARY:Music at Evergreen: Lun Li\, violin
DESCRIPTION:ABOUT THE PROGRAM\nMusic at Evergreen is Evergreen Museum & Library’s popular and eclectic series of classical music concerts that continues The Honorable John Work Garrett and Alice Warder Garrett’s tradition of presenting intimate performances in their home. The series’s 69th season concludes on February 19 with a performance by violinist Lun Li. \nPlease note: These are tickets for a single concert. To purchase subscription tickets for all three concerts in the 2022-2023 Music at Evergreen Concert Series\, click HERE. \n  \nABOUT THE PERFORMER\nA native of Shanghai\, China\, violinist Lun Li won First Prize in the 2021 Young Concert Artists Susan Wadsworth International Auditions\, The Paul A. Fish Memorial Prize\, the Buffalo Chamber Music Society Prize\, and was named John French Violin Chair at YCA. He is also the recent joint winner of First Prize at the Lillian and Maurice Barbash J.S. Bach Competition. Further accolades include winning second prize in Shanghai’s Haydn Chamber Competition\, resulting in an invitation to perform at the Helsinki Music Centre Festival. \nAn avid chamber musician\, Li has participated in the Marlboro Music Festival in Philadelphia; the Verbier Music Festival Academy in Switzerland; Music@Menlo’s international program in Atherton\, California; and Music from Angelfire in New Mexico. \nDuring the 2022-2023 season\, Li will make his New York City recital debut at Merkin Concert Hall and his Washington\, D.C.\, recital debut at the Kennedy Center’s Terrace Theater\, both presented by Young Concert Artists. Other recital and chamber music appearances include Clarion Concerts\, Brooklyn Chamber Music Society\, Jupiter Chamber Players\, Buffalo Chamber Music Society\, Evergreen Museum & Library in Baltimore\, Port Washington Library\, and Cutchogue Library. He will appear as concerto soloist with the Salisbury Symphony Orchestra and the Riverside Symphony at Alice Tully Hall. \nLi holds a Bachelor of Music from Curtis Institute of Music and a Master of Music from The Juilliard School. His mentors include Ida Kavafian\, Catherine Cho\, and Joseph Lin. He is currently pursuing an Artistic Diploma at The Juilliard School where he serves as teaching assistant to Catherine Cho. \n  \nSPONSORSHIP\nThe Music at Evergreen concert series is made possible by the Evergreen House Foundation.
URL:https://museums.jhu.edu/event/music-at-evergreen-lun-li-violin/
LOCATION:Evergreen Museum & Library\, 4545 N. Charles Street\, Baltimore\, MD\, 21210\, United States
ATTACH;FMTTYPE=image/jpeg:https://museums.jhu.edu/wp-content/uploads/sites/46/2022/10/LunLi-TamPhotography-4-1-scaled-e1666713897470.jpg
ORGANIZER;CN="Evergreen Museum &amp%3B Library":MAILTO:museums@jhu.edu
END:VEVENT
END:VCALENDAR