BEGIN:VCALENDAR
VERSION:2.0
PRODID:-//Johns Hopkins University Museums - ECPv6.15.20//NONSGML v1.0//EN
CALSCALE:GREGORIAN
METHOD:PUBLISH
X-WR-CALNAME:Johns Hopkins University Museums
X-ORIGINAL-URL:https://museums.jhu.edu
X-WR-CALDESC:Events for Johns Hopkins University Museums
REFRESH-INTERVAL;VALUE=DURATION:PT1H
X-Robots-Tag:noindex
X-PUBLISHED-TTL:PT1H
BEGIN:VTIMEZONE
TZID:America/New_York
BEGIN:DAYLIGHT
TZOFFSETFROM:-0500
TZOFFSETTO:-0400
TZNAME:EDT
DTSTART:20210314T070000
END:DAYLIGHT
BEGIN:STANDARD
TZOFFSETFROM:-0400
TZOFFSETTO:-0500
TZNAME:EST
DTSTART:20211107T060000
END:STANDARD
BEGIN:DAYLIGHT
TZOFFSETFROM:-0500
TZOFFSETTO:-0400
TZNAME:EDT
DTSTART:20220313T070000
END:DAYLIGHT
BEGIN:STANDARD
TZOFFSETFROM:-0400
TZOFFSETTO:-0500
TZNAME:EST
DTSTART:20221106T060000
END:STANDARD
BEGIN:DAYLIGHT
TZOFFSETFROM:-0500
TZOFFSETTO:-0400
TZNAME:EDT
DTSTART:20230312T070000
END:DAYLIGHT
BEGIN:STANDARD
TZOFFSETFROM:-0400
TZOFFSETTO:-0500
TZNAME:EST
DTSTART:20231105T060000
END:STANDARD
END:VTIMEZONE
BEGIN:VEVENT
DTSTART;TZID=America/New_York:20221210T110000
DTEND;TZID=America/New_York:20221210T140000
DTSTAMP:20260425T064731
CREATED:20221025T205854Z
LAST-MODIFIED:20221025T210540Z
UID:3699-1670670000-1670680800@museums.jhu.edu
SUMMARY:Homewood Museum Holiday Open House
DESCRIPTION:ABOUT THE PROGRAM\nCelebrate the holiday season with a visit to Homewood Museum for our free open house! Tour the museum\, decorated for the season with period decor; make a holiday craft; enjoy live music; and snack on seasonal goodies. \nShop the museum store for great deals on unique items\, including accessories\, jewelry\, stationery\, book\, and more! Johns Hopkins University Museums Members can enjoy 20% off all purchases while the public will receive 10% off. To become a member of the Johns Hopkins University Museums\, click HERE. \nPlease Note: Due to the historical nature of the building\, accessibility is limited\, and many parts of the museum can only be reached via stairs. \n  \nREGISTRATION\nSpace is limited; advance registration required. Reserve tickets at https://homewoodmuseum.eventbrite.com.
URL:https://museums.jhu.edu/event/homewood-museum-holiday-open-house/
LOCATION:Homewood Museum\, 3400 N. Charles Street\, Baltimore\, MD\, 21218\, United States
ATTACH;FMTTYPE=image/jpeg:https://museums.jhu.edu/wp-content/uploads/sites/46/2021/11/JHU2171_resize-scaled.jpg
ORGANIZER;CN="Homewood Museum":MAILTO:museums@jhu.edu
END:VEVENT
END:VCALENDAR